View In:
ArcGIS JavaScript
ArcGIS Online Map Viewer
ArcGIS Earth
Service Description: null
Name: deafrica/Geomedian_Annual
Description: null
Single Fused Map Cache: false
Extent:
XMin: -3101236.678199999
YMin: -6158668.440200001
XMax: 7310113.321800001
YMax: 4721511.559799999
Spatial Reference: 102100
(3857)
Initial Extent:
XMin: -3101236.678199999
YMin: -6158668.440200001
XMax: 7310113.321800001
YMax: 4721511.559799999
Spatial Reference: 102100
(3857)
Full Extent:
XMin: -3101236.678199999
YMin: -6158668.440200001
XMax: 7310113.321800001
YMax: 4721511.559799999
Spatial Reference: 102100
(3857)
Time Info:
Start Time Field: NumDate
End Time Field: null
Time Extent:
[2017/01/01 00:00:00 UTC, 2022/01/01 00:00:00 UTC]
Time Reference:
N/A
Pixel Size X: 10.0
Pixel Size Y: 10.0
Band Count: 14
Pixel Type: F32
RasterFunction Infos: {"rasterFunctionInfos": [
{
"name": "Natural Color with DRA",
"description": "Natural Color Bands Red, Green, Blue (B3, B2, B1) displayed with dynamic range adjustment applied.\n",
"help": ""
},
{
"name": "Natural Color",
"description": "Natural Color Bands Red, Green, Blue(B3, B2, B1) displayed with fixed stretch applied.",
"help": ""
},
{
"name": "Agriculture",
"description": "Bands SWIR_1, NIR, Blue (B9, B7, B1) with fixed stretch applied. Vigorous vegetation is bright green, stressed vegetation dull green and bare areas as brown.",
"help": ""
},
{
"name": "Agriculture with DRA",
"description": "Bands SWIR_1, NIR, Blue (B9, B7, B1) with dynamic range adjustment applied. Vigorous veg. is bright green, stressed veg. dull green and bare areas as brown.\n",
"help": ""
},
{
"name": "Color Infrared",
"description": "Bands NIR, Red, Green (B7,B3,B2) with fixed stretch applied. Healthy vegetation is bright red while stressed vegetation is dull red.",
"help": ""
},
{
"name": "Color Infrared with DRA",
"description": "Bands NIR, Red, Green (B7,B3,B2) with dynamic range adjustment applied. Healthy vegetation is bright red while stressed vegetation is dull red.",
"help": ""
},
{
"name": "Short-wave Infrared",
"description": "Bands SWIR_2, SWIR_1, Red (B10, B9, B3) with fixed stretch.",
"help": ""
},
{
"name": "Short-wave Infrared with DRA",
"description": "Bands SWIR_2, SWIR_1, Red (B10, B9, B3) with dynamic range adjustment applied.",
"help": ""
},
{
"name": "Geology",
"description": "Bands SWIR_2, SWIR_1, Blue (B10,B 9, B1) with fixed stretch applied. Highlights geological features.",
"help": ""
},
{
"name": "Geology with DRA",
"description": "Bands SWIR_2, SWIR_1, Blue (B10, B9, B1) with dynamic range adjustment applied. Highlights geological features.",
"help": ""
},
{
"name": "Vegetation Index (NDVI)",
"description": "Normalized difference vegetation index (NDVI) with colormap. Dark green represents vigorous vegetation and brown represents sparse vegetation. It is computed as NIR(B7)-Red(B3)/NIR(B7)+Red(B3) and is suitable for vegetation, land cover and plant health monitoring.",
"help": ""
},
{
"name": "Vegetation Index with Red Edge (NDVI VRE)",
"description": "NDVI - with VRE (NDRE) with colormap. Green represents vigorous vegetation and purple represents sparse vegetation. It is computed as NIR(B7)-Red_Edge(B4)/NIR(B7)+RED_Edge(B4), also known as NDRE (Normalized Difference Red Edge) and is more appropriate than NDVI index for intensive management applications throughout the growing season.",
"help": ""
},
{
"name": "Moisture Index (NDMI)",
"description": "Normalized Difference Moisture Index with color map. Wetlands and moist areas appear blue whereas dry areas are represented by deep yellow and brown color. It is computed as NIR(B7)-SWIR_1(B9)/NIR(B7)+SWIR_1(B9).",
"help": ""
},
{
"name": "Water Index (NDWI)",
"description": "NDWI - with color map. Wetlands appear blue whereas dry areas are represented by gray and black. It is computed as Green(B2)-NIR(B7)/Green(B2)+NIR(B7) and is most suitable for mapping of water bodies, droughts, boundary evaluation. ",
"help": ""
},
{
"name": "Built-Up Index (NDBI)",
"description": "NDBI is computed as SWIR_1(B9)-NIR(B7)/ SWIR_1(B9)+NIR(B7) is suitable for tracking urbanization and land-use planning. It highlights urban areas with higher reflectance in the SWIR region, compared to the NIR region.",
"help": ""
},
{
"name": "Burn Index (NBR)",
"description": "NBRI is computed as NIR(B7)- SWIR_1(B9)/ NIR(B7) + SWIR_1(B9) uses the NIR and SWIR bands to emphasize burned areas, while mitigating illumination and atmospheric effects.",
"help": ""
},
{
"name": "Median Absolute Deviations",
"description": "The GeoMAD service utilises three MADs, each stored in a separate band: Euclidean MAD (EMAD), spectral MAD (SMAD), and Bray-Curtis MAD (BCMAD).",
"help": ""
},
{
"name": "Spectral Median Absolute Deviation",
"description": "Spectral Median Absolute Deviation Colorized",
"help": ""
},
{
"name": "Euclidean Median Absolute Deviation",
"description": "Euclidean Median Absolute Deviation",
"help": ""
},
{
"name": "Bray-Curtis Median Absolute Deviation",
"description": "Bray-Curtis Median Absolute Deviation",
"help": ""
},
{
"name": "None",
"description": "Make a Raster or Raster Dataset into a Function Raster Dataset.",
"help": ""
}
]}
Mensuration Capabilities:
Has Histograms: false
Has Colormap: false
Has Multi Dimensions : false
Rendering Rule:
Min Scale: 0
Max Scale: 0
Copyright Text: null
Service Data Type: esriImageServiceDataTypeGeneric
Min Values: N/A
Max Values: N/A
Mean Values: N/A
Standard Deviation Values: N/A
Object ID Field: OBJECTID
Fields:
-
OBJECTID
(
type: esriFieldTypeOID, alias: OBJECTID
)
-
Shape
(
type: esriFieldTypeGeometry, alias: Shape
)
-
Name
(
type: esriFieldTypeString, alias: Name, length: 200
)
-
MinPS
(
type: esriFieldTypeDouble, alias: MinPS
)
-
MaxPS
(
type: esriFieldTypeDouble, alias: MaxPS
)
-
LowPS
(
type: esriFieldTypeDouble, alias: LowPS
)
-
HighPS
(
type: esriFieldTypeDouble, alias: HighPS
)
-
Category
(
type: esriFieldTypeInteger, alias: Category
, Coded Values:
[0: Unknown]
, [1: Primary]
, [2: Overview]
, ...6 more...
)
-
Tag
(
type: esriFieldTypeString, alias: Tag, length: 100
)
-
GroupName
(
type: esriFieldTypeString, alias: GroupName, length: 100
)
-
ProductName
(
type: esriFieldTypeString, alias: ProductName, length: 100
)
-
CenterX
(
type: esriFieldTypeDouble, alias: CenterX
)
-
CenterY
(
type: esriFieldTypeDouble, alias: CenterY
)
-
ZOrder
(
type: esriFieldTypeInteger, alias: ZOrder
)
-
AcquisitionDate
(
type: esriFieldTypeDate, alias: AcquisitionDate, length: 8
)
-
Dataset_ID
(
type: esriFieldTypeString, alias: Dataset_ID, length: 255
)
-
SRS
(
type: esriFieldTypeString, alias: SRS, length: 255
)
-
NumDate
(
type: esriFieldTypeInteger, alias: NumDate
)
-
Q
(
type: esriFieldTypeInteger, alias: Q
)
-
Best
(
type: esriFieldTypeInteger, alias: Best
)
-
ID
(
type: esriFieldTypeString, alias: ID, length: 255
)
-
ProdcutID
(
type: esriFieldTypeString, alias: ProductID, length: 255
)
-
Constellation
(
type: esriFieldTypeString, alias: Constellation, length: 255
)
-
ProductID
(
type: esriFieldTypeString, alias: ProductID, length: 90
)
-
Shape_Length
(
type: esriFieldTypeDouble, alias: Shape_Length
)
-
Shape_Area
(
type: esriFieldTypeDouble, alias: Shape_Area
)
Default Mosaic Method: ByAttribute
Allowed Mosaic Methods: ByAttribute,NorthWest,Center,LockRaster,Nadir,Viewpoint,Seamline,None
SortField: AcquisitionDate
SortValue: 2050/1/1
Mosaic Operator: First
Default Compression Quality: 75
Default Resampling Method: Bilinear
Max Record Count: 1000
Max Image Height: 4000
Max Image Width: 4000
Max Download Image Count: 20
Max Mosaic Image Count: 20
Allow Raster Function: true
Allow Copy: true
Allow Analysis: true
Allow Compute TiePoints: false
Supports Statistics: true
Supports Advanced Queries: true
Use StandardizedQueries: true
Raster Type Infos:
Name: Raster Dataset
Description: Supports all ArcGIS Raster Datasets
Help:
Has Raster Attribute Table: false
Edit Fields Info: null
Ownership Based AccessControl For Rasters: null
Child Resources:
Info
Statistics
Key Properties
Legend
Raster Function Infos
Supported Operations:
Export Image
Query
Identify
Measure
Compute Histograms
Compute Statistics Histograms
Get Samples
Compute Class Statistics
Query Boundary
Compute Pixel Location
Compute Angles
Validate
Project