{
 "currentVersion": 11.1,
 "serviceDescription": "null",
 "name": "deafrica/Geomedian_Annual",
 "description": "null",
 "extent": {
  "xmin": -3101236.678199999,
  "ymin": -6158668.440200001,
  "xmax": 7310113.321800001,
  "ymax": 4721511.559799999,
  "spatialReference": {
   "wkid": 102100,
   "latestWkid": 3857
  }
 },
 "initialExtent": {
  "xmin": -3101236.678199999,
  "ymin": -6158668.440200001,
  "xmax": 7310113.321800001,
  "ymax": 4721511.559799999,
  "spatialReference": {
   "wkid": 102100,
   "latestWkid": 3857
  }
 },
 "fullExtent": {
  "xmin": -3101236.678199999,
  "ymin": -6158668.440200001,
  "xmax": 7310113.321800001,
  "ymax": 4721511.559799999,
  "spatialReference": {
   "wkid": 102100,
   "latestWkid": 3857
  }
 },
 "sortableFields": "",
 "bandCount": 14,
 "pixelType": "F32",
 "minValues": [],
 "maxValues": [],
 "meanValues": [],
 "stdvValues": [],
 "hasMultidimensions": false,
 "timeInfo": {
  "startTimeField": "NumDate",
  "endTimeField": null,
  "timeExtent": [
   1483228800000,
   1640995200000
  ],
  "timeReference": null
 },
 "pixelSizeX": 10,
 "pixelSizeY": 10,
 "datasetFormat": "AMD",
 "uncompressedSize": 63435322744080,
 "blockWidth": 2048,
 "blockHeight": 256,
 "compressionType": "None",
 "bandNames": [
  "Blue",
  "Green",
  "Red",
  "Red_Edge_1",
  "Red_Edge_2",
  "Red_Edge_3",
  "NIR_1",
  "NIR_2",
  "SWIR_1",
  "SWIR_2",
  "SMAD",
  "EMAD",
  "BCMAD",
  "COUNT"
 ],
 "allowCopy": true,
 "allowAnalysis": true,
 "itemAccess": false,
 "minPixelSize": 0,
 "maxPixelSize": 0,
 "copyrightText": "null",
 "serviceDataType": "esriImageServiceDataTypeGeneric",
 "serviceSourceType": "esriImageServiceSourceTypeMosaicDataset",
 "objectIdField": "OBJECTID",
 "fields": [
  {
   "name": "OBJECTID",
   "type": "esriFieldTypeOID",
   "alias": "OBJECTID",
   "domain": null
  },
  {
   "name": "Shape",
   "type": "esriFieldTypeGeometry",
   "alias": "Shape",
   "domain": null
  },
  {
   "name": "Name",
   "type": "esriFieldTypeString",
   "alias": "Name",
   "domain": null,
   "length": 200
  },
  {
   "name": "MinPS",
   "type": "esriFieldTypeDouble",
   "alias": "MinPS",
   "domain": null
  },
  {
   "name": "MaxPS",
   "type": "esriFieldTypeDouble",
   "alias": "MaxPS",
   "domain": null
  },
  {
   "name": "LowPS",
   "type": "esriFieldTypeDouble",
   "alias": "LowPS",
   "domain": null
  },
  {
   "name": "HighPS",
   "type": "esriFieldTypeDouble",
   "alias": "HighPS",
   "domain": null
  },
  {
   "name": "Category",
   "type": "esriFieldTypeInteger",
   "alias": "Category",
   "domain": {
    "type": "codedValue",
    "name": "MosaicCatalogItemCategoryDomain",
    "description": "Catalog item categories.",
    "codedValues": [
     {
      "name": "Unknown",
      "code": 0
     },
     {
      "name": "Primary",
      "code": 1
     },
     {
      "name": "Overview",
      "code": 2
     },
     {
      "name": "Unprocessed Overview",
      "code": 3
     },
     {
      "name": "Partial Overview",
      "code": 4
     },
     {
      "name": "Inactive",
      "code": 5
     },
     {
      "name": "Uploaded",
      "code": 253
     },
     {
      "name": "Incomplete",
      "code": 254
     },
     {
      "name": "Custom",
      "code": 255
     }
    ],
    "mergePolicy": "esriMPTDefaultValue",
    "splitPolicy": "esriSPTDefaultValue"
   }
  },
  {
   "name": "Tag",
   "type": "esriFieldTypeString",
   "alias": "Tag",
   "domain": null,
   "length": 100
  },
  {
   "name": "GroupName",
   "type": "esriFieldTypeString",
   "alias": "GroupName",
   "domain": null,
   "length": 100
  },
  {
   "name": "ProductName",
   "type": "esriFieldTypeString",
   "alias": "ProductName",
   "domain": null,
   "length": 100
  },
  {
   "name": "CenterX",
   "type": "esriFieldTypeDouble",
   "alias": "CenterX",
   "domain": null
  },
  {
   "name": "CenterY",
   "type": "esriFieldTypeDouble",
   "alias": "CenterY",
   "domain": null
  },
  {
   "name": "ZOrder",
   "type": "esriFieldTypeInteger",
   "alias": "ZOrder",
   "domain": null
  },
  {
   "name": "AcquisitionDate",
   "type": "esriFieldTypeDate",
   "alias": "AcquisitionDate",
   "domain": null,
   "length": 8
  },
  {
   "name": "Dataset_ID",
   "type": "esriFieldTypeString",
   "alias": "Dataset_ID",
   "domain": null,
   "length": 255
  },
  {
   "name": "SRS",
   "type": "esriFieldTypeString",
   "alias": "SRS",
   "domain": null,
   "length": 255
  },
  {
   "name": "NumDate",
   "type": "esriFieldTypeInteger",
   "alias": "NumDate",
   "domain": null
  },
  {
   "name": "Q",
   "type": "esriFieldTypeInteger",
   "alias": "Q",
   "domain": null
  },
  {
   "name": "Best",
   "type": "esriFieldTypeInteger",
   "alias": "Best",
   "domain": null
  },
  {
   "name": "ID",
   "type": "esriFieldTypeString",
   "alias": "ID",
   "domain": null,
   "length": 255
  },
  {
   "name": "ProdcutID",
   "type": "esriFieldTypeString",
   "alias": "ProductID",
   "domain": null,
   "length": 255
  },
  {
   "name": "Constellation",
   "type": "esriFieldTypeString",
   "alias": "Constellation",
   "domain": null,
   "length": 255
  },
  {
   "name": "ProductID",
   "type": "esriFieldTypeString",
   "alias": "ProductID",
   "domain": null,
   "length": 90
  },
  {
   "name": "Shape_Length",
   "type": "esriFieldTypeDouble",
   "alias": "Shape_Length",
   "domain": null
  },
  {
   "name": "Shape_Area",
   "type": "esriFieldTypeDouble",
   "alias": "Shape_Area",
   "domain": null
  }
 ],
 "capabilities": "Image,Metadata,Catalog,Mensuration",
 "defaultMosaicMethod": "ByAttribute",
 "allowedMosaicMethods": "ByAttribute,NorthWest,Center,LockRaster,Nadir,Viewpoint,Seamline,None",
 "sortField": "AcquisitionDate",
 "sortValue": "2050/1/1",
 "sortAscending": true,
 "mosaicOperator": "First",
 "maxDownloadSizeLimit": 2048,
 "defaultCompressionQuality": 75,
 "defaultResamplingMethod": "Bilinear",
 "maxImageHeight": 4000,
 "maxImageWidth": 4000,
 "maxRecordCount": 1000,
 "maxDownloadImageCount": 20,
 "maxMosaicImageCount": 20,
 "allowRasterFunction": true,
 "rasterFunctionInfos": [
  {
   "name": "Natural Color with DRA",
   "description": "Natural Color Bands Red, Green, Blue (B3, B2, B1) displayed with dynamic range adjustment applied.\n",
   "help": ""
  },
  {
   "name": "Natural Color",
   "description": "Natural Color Bands Red, Green, Blue(B3, B2, B1) displayed with fixed stretch applied.",
   "help": ""
  },
  {
   "name": "Agriculture",
   "description": "Bands SWIR_1, NIR, Blue (B9, B7, B1) with fixed stretch applied. Vigorous vegetation is bright green, stressed vegetation dull green and bare areas as brown.",
   "help": ""
  },
  {
   "name": "Agriculture with DRA",
   "description": "Bands SWIR_1, NIR, Blue (B9, B7, B1) with dynamic range adjustment applied. Vigorous veg. is bright green, stressed veg. dull green and bare areas as brown.\n",
   "help": ""
  },
  {
   "name": "Color Infrared",
   "description": "Bands NIR, Red, Green (B7,B3,B2) with fixed stretch applied. Healthy vegetation is bright red while stressed vegetation is dull red.",
   "help": ""
  },
  {
   "name": "Color Infrared with DRA",
   "description": "Bands NIR, Red, Green (B7,B3,B2) with dynamic range adjustment applied. Healthy vegetation is bright red while stressed vegetation is dull red.",
   "help": ""
  },
  {
   "name": "Short-wave Infrared",
   "description": "Bands SWIR_2, SWIR_1, Red (B10, B9, B3) with fixed stretch.",
   "help": ""
  },
  {
   "name": "Short-wave Infrared with DRA",
   "description": "Bands SWIR_2, SWIR_1, Red (B10, B9, B3) with dynamic range adjustment applied.",
   "help": ""
  },
  {
   "name": "Geology",
   "description": "Bands SWIR_2, SWIR_1, Blue (B10,B 9, B1) with fixed stretch applied. Highlights geological features.",
   "help": ""
  },
  {
   "name": "Geology with DRA",
   "description": "Bands SWIR_2, SWIR_1, Blue (B10, B9, B1) with dynamic range adjustment applied. Highlights geological features.",
   "help": ""
  },
  {
   "name": "Vegetation Index (NDVI)",
   "description": "Normalized difference vegetation index (NDVI) with colormap. Dark green represents vigorous vegetation and brown represents sparse vegetation. It is computed as NIR(B7)-Red(B3)/NIR(B7)+Red(B3) and is suitable for vegetation, land cover and plant health monitoring.",
   "help": ""
  },
  {
   "name": "Vegetation Index with Red Edge (NDVI VRE)",
   "description": "NDVI - with VRE (NDRE) with colormap. Green represents vigorous vegetation and purple represents sparse vegetation. It is computed as NIR(B7)-Red_Edge(B4)/NIR(B7)+RED_Edge(B4), also known as NDRE (Normalized Difference Red Edge) and is more appropriate than NDVI index for intensive management applications throughout the growing season.",
   "help": ""
  },
  {
   "name": "Moisture Index (NDMI)",
   "description": "Normalized Difference Moisture Index with color map. Wetlands and moist areas appear blue whereas dry areas are represented by deep yellow and brown color. It is computed as NIR(B7)-SWIR_1(B9)/NIR(B7)+SWIR_1(B9).",
   "help": ""
  },
  {
   "name": "Water Index (NDWI)",
   "description": "NDWI - with color map. Wetlands appear blue whereas dry areas are represented by gray and black. It is computed as Green(B2)-NIR(B7)/Green(B2)+NIR(B7) and is most suitable for mapping of water bodies, droughts, boundary evaluation. ",
   "help": ""
  },
  {
   "name": "Built-Up Index (NDBI)",
   "description": "NDBI is computed as SWIR_1(B9)-NIR(B7)/ SWIR_1(B9)+NIR(B7) is suitable for tracking urbanization and land-use planning. It highlights urban areas with higher reflectance in the SWIR region, compared to the NIR region.",
   "help": ""
  },
  {
   "name": "Burn Index (NBR)",
   "description": "NBRI is computed as NIR(B7)- SWIR_1(B9)/ NIR(B7) + SWIR_1(B9) uses the NIR and SWIR bands to emphasize burned areas, while mitigating illumination and atmospheric effects.",
   "help": ""
  },
  {
   "name": "Median Absolute Deviations",
   "description": "The GeoMAD service utilises three MADs, each stored in a separate band: Euclidean MAD (EMAD), spectral MAD (SMAD), and Bray-Curtis MAD (BCMAD).",
   "help": ""
  },
  {
   "name": "Spectral Median Absolute Deviation",
   "description": "Spectral Median Absolute Deviation Colorized",
   "help": ""
  },
  {
   "name": "Euclidean Median Absolute Deviation",
   "description": "Euclidean Median Absolute Deviation",
   "help": ""
  },
  {
   "name": "Bray-Curtis Median Absolute Deviation",
   "description": "Bray-Curtis Median Absolute Deviation",
   "help": ""
  },
  {
   "name": "None",
   "description": "Make a Raster or Raster Dataset into a Function Raster Dataset.",
   "help": ""
  }
 ],
 "rasterTypeInfos": [
  {
   "name": "Raster Dataset",
   "description": "Supports all ArcGIS Raster Datasets",
   "help": ""
  }
 ],
 "mensurationCapabilities": "",
 "hasHistograms": false,
 "hasColormap": false,
 "hasRasterAttributeTable": false,
 "minScale": 0,
 "maxScale": 0,
 "exportTilesAllowed": false,
 "supportsStatistics": true,
 "supportsAdvancedQueries": true,
 "editFieldsInfo": null,
 "ownershipBasedAccessControlForRasters": null,
 "allowComputeTiePoints": false,
 "useStandardizedQueries": true,
 "advancedQueryCapabilities": {
  "useStandardizedQueries": true,
  "supportsStatistics": true,
  "supportsOrderBy": true,
  "supportsDistinct": true,
  "supportsPagination": true
 },
 "spatialReference": {
  "wkid": 102100,
  "latestWkid": 3857
 }
}
