View In:
ArcGIS JavaScript
ArcGIS Online Map Viewer
ArcGIS Earth
Service Description: Digital Earth Africa's Water Observation from Space annual summary created from landsat data from 1984 to date, indicating the ratio of wet to clear observations from each calendar year.
Name: deafrica/WOFS_Annual_Frequency
Description: Digital Earth Africa's Water Observation from Space annual summary created from landsat data from 1984 to date, indicating the ratio of wet to clear observations from each calendar year.
Single Fused Map Cache: false
Extent:
XMin: -2990478.225400001
YMin: -6350921.5336000025
XMax: 7310321.774599999
YMax: 5005278.4663999975
Spatial Reference: 102100
(3857)
Initial Extent:
XMin: -2990478.225400001
YMin: -6350921.5336000025
XMax: 7310321.774599999
YMax: 5005278.4663999975
Spatial Reference: 102100
(3857)
Full Extent:
XMin: -2990478.225400001
YMin: -6350921.5336000025
XMax: 7310321.774599999
YMax: 5005278.4663999975
Spatial Reference: 102100
(3857)
Time Info:
Start Time Field: Date
End Time Field: null
Time Extent:
[1984/01/01 00:00:00 UTC, 2022/01/01 00:00:00 UTC]
Time Reference:
N/A
Pixel Size X: 30.0
Pixel Size Y: 30.0
Band Count: 3
Pixel Type: F32
RasterFunction Infos: {"rasterFunctionInfos": [
{
"name": "WOfS Annual Frequency",
"description": "A raster function template.",
"help": ""
},
{
"name": "None",
"description": "Make a Raster or Raster Dataset into a Function Raster Dataset.",
"help": ""
},
{
"name": "WOfS Annual Clear Count",
"description": "count_clear",
"help": ""
},
{
"name": "WOfS Annual Wet Count",
"description": "count wet",
"help": ""
}
]}
Mensuration Capabilities:
Has Histograms: false
Has Colormap: false
Has Multi Dimensions : false
Rendering Rule:
Min Scale: 0
Max Scale: 0
Copyright Text: Digital Earth Africa
Service Data Type: esriImageServiceDataTypeGeneric
Min Values: N/A
Max Values: N/A
Mean Values: N/A
Standard Deviation Values: N/A
Object ID Field: OBJECTID
Fields:
-
OBJECTID
(
type: esriFieldTypeOID, alias: OBJECTID
)
-
Shape
(
type: esriFieldTypeGeometry, alias: Shape
)
-
Name
(
type: esriFieldTypeString, alias: Name, length: 200
)
-
MinPS
(
type: esriFieldTypeDouble, alias: MinPS
)
-
MaxPS
(
type: esriFieldTypeDouble, alias: MaxPS
)
-
LowPS
(
type: esriFieldTypeDouble, alias: LowPS
)
-
HighPS
(
type: esriFieldTypeDouble, alias: HighPS
)
-
Category
(
type: esriFieldTypeInteger, alias: Category
, Coded Values:
[0: Unknown]
, [1: Primary]
, [2: Overview]
, ...6 more...
)
-
Tag
(
type: esriFieldTypeString, alias: Tag, length: 100
)
-
GroupName
(
type: esriFieldTypeString, alias: GroupName, length: 100
)
-
ProductName
(
type: esriFieldTypeString, alias: ProductName, length: 100
)
-
CenterX
(
type: esriFieldTypeDouble, alias: CenterX
)
-
CenterY
(
type: esriFieldTypeDouble, alias: CenterY
)
-
ZOrder
(
type: esriFieldTypeInteger, alias: ZOrder
)
-
Date
(
type: esriFieldTypeDate, alias: Date, length: 8
)
-
Shape_Length
(
type: esriFieldTypeDouble, alias: Shape_Length
)
-
Shape_Area
(
type: esriFieldTypeDouble, alias: Shape_Area
)
Default Mosaic Method: ByAttribute
Allowed Mosaic Methods: ByAttribute,NorthWest,Center,LockRaster,Nadir,Viewpoint,Seamline,None
SortField: Date
SortValue: 1/1/2050
Mosaic Operator: First
Default Compression Quality: 75
Default Resampling Method: Bilinear
Max Record Count: 1000
Max Image Height: 5000
Max Image Width: 5000
Max Download Image Count: 20
Max Mosaic Image Count: 20
Allow Raster Function: true
Allow Copy: true
Allow Analysis: true
Allow Compute TiePoints: false
Supports Statistics: true
Supports Advanced Queries: true
Use StandardizedQueries: true
Raster Type Infos:
Name: Raster Dataset
Description: Supports all ArcGIS Raster Datasets
Help:
Has Raster Attribute Table: false
Edit Fields Info: null
Ownership Based AccessControl For Rasters: null
Child Resources:
Info
Statistics
Key Properties
Legend
Raster Function Infos
Supported Operations:
Export Image
Query
Identify
Measure
Compute Histograms
Compute Statistics Histograms
Get Samples
Compute Class Statistics
Query Boundary
Compute Pixel Location
Compute Angles
Validate
Project