{
 "currentVersion": 11.1,
 "serviceDescription": "GeoMAD is the the Digital Earth Africa (DE Africa) Landsat-8 geomedian and triple Median Absolute Deviation service",
 "name": "deafrica/Landsat8_Geomedian_Annual",
 "description": "GeoMAD is the the Digital Earth Africa (DE Africa) Landsat-8 geomedian and triple Median Absolute Deviation service",
 "extent": {
  "xmin": -2990478.225400001,
  "ymin": -4323266.3928999975,
  "xmax": 7310111.774599999,
  "ymax": 4861383.6071000025,
  "spatialReference": {
   "wkid": 102100,
   "latestWkid": 3857
  }
 },
 "initialExtent": {
  "xmin": -2990478.225400001,
  "ymin": -4323266.3928999975,
  "xmax": 7310111.774599999,
  "ymax": 4861383.6071000025,
  "spatialReference": {
   "wkid": 102100,
   "latestWkid": 3857
  }
 },
 "fullExtent": {
  "xmin": -2990478.225400001,
  "ymin": -4323266.3928999975,
  "xmax": 7310111.774599999,
  "ymax": 4861383.6071000025,
  "spatialReference": {
   "wkid": 102100,
   "latestWkid": 3857
  }
 },
 "sortableFields": "",
 "bandCount": 10,
 "pixelType": "F32",
 "minValues": [],
 "maxValues": [],
 "meanValues": [],
 "stdvValues": [],
 "hasMultidimensions": false,
 "timeInfo": {
  "startTimeField": "AcquisitionDate",
  "endTimeField": "acquisitiondate",
  "timeExtent": [
   1357038000000,
   1640995200000
  ],
  "timeReference": null
 },
 "pixelSizeX": 30,
 "pixelSizeY": 30,
 "datasetFormat": "AMD",
 "uncompressedSize": 4204769508600,
 "blockWidth": 2048,
 "blockHeight": 256,
 "compressionType": "None",
 "bandNames": [
  "Blue",
  "Green",
  "Red",
  "NIR",
  "SWIR_1",
  "SWIR_2",
  "COUNT",
  "SMAD",
  "EMAD",
  "BCMAD"
 ],
 "allowCopy": true,
 "allowAnalysis": true,
 "itemAccess": false,
 "minPixelSize": 0,
 "maxPixelSize": 0,
 "copyrightText": "Digital Earth Africa",
 "serviceDataType": "esriImageServiceDataTypeGeneric",
 "serviceSourceType": "esriImageServiceSourceTypeMosaicDataset",
 "objectIdField": "OBJECTID",
 "fields": [
  {
   "name": "OBJECTID",
   "type": "esriFieldTypeOID",
   "alias": "OBJECTID",
   "domain": null
  },
  {
   "name": "Shape",
   "type": "esriFieldTypeGeometry",
   "alias": "Shape",
   "domain": null
  },
  {
   "name": "Name",
   "type": "esriFieldTypeString",
   "alias": "Name",
   "domain": null,
   "length": 200
  },
  {
   "name": "MinPS",
   "type": "esriFieldTypeDouble",
   "alias": "MinPS",
   "domain": null
  },
  {
   "name": "MaxPS",
   "type": "esriFieldTypeDouble",
   "alias": "MaxPS",
   "domain": null
  },
  {
   "name": "LowPS",
   "type": "esriFieldTypeDouble",
   "alias": "LowPS",
   "domain": null
  },
  {
   "name": "HighPS",
   "type": "esriFieldTypeDouble",
   "alias": "HighPS",
   "domain": null
  },
  {
   "name": "Category",
   "type": "esriFieldTypeInteger",
   "alias": "Category",
   "domain": {
    "type": "codedValue",
    "name": "MosaicCatalogItemCategoryDomain",
    "description": "Catalog item categories.",
    "codedValues": [
     {
      "name": "Unknown",
      "code": 0
     },
     {
      "name": "Primary",
      "code": 1
     },
     {
      "name": "Overview",
      "code": 2
     },
     {
      "name": "Unprocessed Overview",
      "code": 3
     },
     {
      "name": "Partial Overview",
      "code": 4
     },
     {
      "name": "Inactive",
      "code": 5
     },
     {
      "name": "Uploaded",
      "code": 253
     },
     {
      "name": "Incomplete",
      "code": 254
     },
     {
      "name": "Custom",
      "code": 255
     }
    ],
    "mergePolicy": "esriMPTDefaultValue",
    "splitPolicy": "esriSPTDefaultValue"
   }
  },
  {
   "name": "ProductName",
   "type": "esriFieldTypeString",
   "alias": "ProductName",
   "domain": null,
   "length": 100
  },
  {
   "name": "AcquisitionDate",
   "type": "esriFieldTypeDate",
   "alias": "AcquisitionDate",
   "domain": null,
   "length": 8
  },
  {
   "name": "Best",
   "type": "esriFieldTypeInteger",
   "alias": "Best",
   "domain": null
  }
 ],
 "capabilities": "Image,Metadata,Catalog,Mensuration",
 "defaultMosaicMethod": "ByAttribute",
 "allowedMosaicMethods": "ByAttribute,Seamline,NorthWest,Center,LockRaster,Nadir,Viewpoint,None",
 "sortField": "AcquisitionDate",
 "sortValue": "2050/1/1",
 "sortAscending": true,
 "mosaicOperator": "First",
 "maxDownloadSizeLimit": 2048,
 "defaultCompressionQuality": 85,
 "defaultResamplingMethod": "Bilinear",
 "maxImageHeight": 5000,
 "maxImageWidth": 5000,
 "maxRecordCount": 2000,
 "maxDownloadImageCount": 50,
 "maxMosaicImageCount": 50,
 "allowRasterFunction": true,
 "rasterFunctionInfos": [
  {
   "name": "Agriculture with DRA",
   "description": "Bands shortwave IR-1, near-IR, blue (5, 4, 1) with dynamic range adjustment applied on apparent reflectance. Vigorous veg. is bright green, stressed veg. dull green and bare areas as brown.",
   "help": ""
  },
  {
   "name": "None",
   "description": "Make a Raster or Raster Dataset into a Function Raster Dataset.",
   "help": ""
  },
  {
   "name": "Natural Color with DRA",
   "description": "Natural Color bands red, green, blue (3, 2, 1) displayed with dynamic range adjustment applied on apparent reflectance.",
   "help": ""
  },
  {
   "name": "Color Infrared with DRA",
   "description": "Bands near-IR, red, green (4, 3, 2) with dynamic range adjustment applied on apparent reflectance. Healthy vegetation is bright red while stressed vegetation is dull red.",
   "help": ""
  },
  {
   "name": "Geology with DRA",
   "description": "The band combination (6,5,1) enables easier visualization and extraction of delineation of major structural features like thrust faults and folds, textural characteristics of igneous and sedimentary rocks, and for lithological and geological mapping like recognizing hydrothermal altered rocks, etc. Additionally, various band combinations like 4,3,2 ; 7,6,5; 7,5,2; 7,4,2 etc. can also be used to determine specific geological features.",
   "help": ""
  },
  {
   "name": "Short-wave Infrared with DRA",
   "description": "Bands shortwave IR-2, shortwave IR-1, red (6, 5, 3) with dynamic range adjustment applied on apparent reflectance.",
   "help": ""
  },
  {
   "name": "Agriculture",
   "description": "Bands shortwave IR-1, near-IR, blue (5, 4, 1) with fixed stretch applied on apparent reflectance. Vigorous vegetation is bright green, stressed vegetation dull green and bare areas as brown.",
   "help": ""
  },
  {
   "name": "Color Infrared",
   "description": "Bands near-IR, red, green (4, 3, 2) with fixed stretch applied on apparent reflectance. Healthy vegetation is bright red while stressed vegetation is dull red.",
   "help": ""
  },
  {
   "name": "Geology",
   "description": "The band combination (6,5,1) enables easier visualization and extraction of delineation of major structural features like thrust faults and folds, textural characteristics of igneous and sedimentary rocks, and for lithological and geological mapping like recognizing hydrothermal altered rocks, etc. Additionally, various band combinations like 4,3,2 ; 7,6,5; 7,5,2; 7,4,2 etc. can also be used to determine specific geological features.",
   "help": ""
  },
  {
   "name": "Natural Color",
   "description": "Natural Color bands red, green, blue(3, 2, 1) displayed with fixed stretch applied on apparent reflectance.",
   "help": ""
  },
  {
   "name": "Short-wave Infrared",
   "description": "Bands shortwave infrared2, shortwave infrared1, red (6, 5, 3) with fixed stretched applied on apparent reflectance.",
   "help": ""
  },
  {
   "name": "NDVI Colorized",
   "description": "Normalized difference vegetation index (NDVI) with color map. Dark green is thick vigorous vegetation and brown represents sparse vegetation.",
   "help": ""
  },
  {
   "name": "Normalized Difference Moisture Index Colorized",
   "description": "Normalized Difference Moisture Index with color map computed as (b4 - b5) / (b4 + b5). Wetlands and moist areas are blues, and dry areas in deep yellow and brown.",
   "help": ""
  },
  {
   "name": "Median Absolute Deviations",
   "description": "The GeoMAD service utilises three MADs, each stored in a separate band: Euclidean MAD (EMAD), spectral MAD (SMAD), and Bray-Curtis MAD (BCMAD).",
   "help": ""
  },
  {
   "name": "Spectral Median Absolute Deviation Colorized",
   "description": "Spectral Median Absolute Deviation Colorized",
   "help": ""
  },
  {
   "name": "Euclidean Median Absolute Deviation Colorized",
   "description": "Euclidean Median Absolute Deviation",
   "help": ""
  },
  {
   "name": "Bray-Curtis Median Absolute Deviation Colorized",
   "description": "Bray-Curtis Median Absolute Deviation",
   "help": ""
  }
 ],
 "rasterTypeInfos": [
  {
   "name": "Raster Dataset",
   "description": "Supports all ArcGIS Raster Datasets",
   "help": ""
  }
 ],
 "mensurationCapabilities": "",
 "hasHistograms": false,
 "hasColormap": false,
 "hasRasterAttributeTable": false,
 "minScale": 0,
 "maxScale": 0,
 "exportTilesAllowed": false,
 "supportsStatistics": true,
 "supportsAdvancedQueries": true,
 "editFieldsInfo": null,
 "ownershipBasedAccessControlForRasters": null,
 "allowComputeTiePoints": false,
 "useStandardizedQueries": true,
 "advancedQueryCapabilities": {
  "useStandardizedQueries": true,
  "supportsStatistics": true,
  "supportsOrderBy": true,
  "supportsDistinct": true,
  "supportsPagination": true
 },
 "spatialReference": {
  "wkid": 102100,
  "latestWkid": 3857
 }
}
